BEGIN:VCALENDAR
VERSION:2.0
PRODID:-//ChamberMaster//Event Calendar 2.0//EN
METHOD:PUBLISH
X-PUBLISHED-TTL:P1H
REFRESH-INTERVAL:P1H
CALSCALE:GREGORIAN
BEGIN:VTIMEZONE
TZID:America/New_York
BEGIN:DAYLIGHT
RRULE:FREQ=YEARLY;BYMONTH=3;BYDAY=2SU
DTSTART:20070101T000000
TZOFFSETFROM:-0500
TZOFFSETTO:-0400
TZNAME:Eastern Daylight Time
END:DAYLIGHT
BEGIN:STANDARD
RRULE:FREQ=YEARLY;BYMONTH=11;BYDAY=1SU
DTSTART:20070101T000000
TZOFFSETFROM:-0400
TZOFFSETTO:-0500
TZNAME:Eastern Standard Time
END:STANDARD
END:VTIMEZONE
BEGIN:VEVENT
DTSTART;TZID=America/New_York:20260918T100000
DTEND;TZID=America/New_York:20260919T170000
X-MICROSOFT-CDO-ALLDAYEVENT:FALSE
SUMMARY:Indiana State Museum "Tinkerfest"
DESCRIPTION:Volunteer Opportunity! ACEC Indiana has been invited to participate in "Tinkerfest\," a daylong celebration of curiosity and creativity! Each activity invites children and families to tinker\, make\, invent\, create\, play and imagine! Volunteers are needed to facilitate a hands-on activity/demonstration. ACEC staff will set up the table with supplies for hands-on activities the day before the event. Volunteers are encouraged to wear a short/polo with their firm's logo. You can bring flyers with you to share company information as well as giveaways.
X-ALT-DESC;FMTTYPE=text/html:<!DOCTYPE html><html><head><title></title></head><body aria-disabled="false"><p>Volunteer Opportunity! ACEC Indiana has been invited to participate in &quot\;Tinkerfest\,&quot\; a daylong celebration of curiosity and creativity! Each activity invites children and families to tinker\, make\, invent\, create\, play and imagine! Volunteers are needed to facilitate a hands-on activity/demonstration. ACEC staff will set up the table with supplies for hands-on activities the day before the event. Volunteers are encouraged to wear a short/polo with their firm&#39\;s logo. You can bring flyers with you to share company information as well as giveaways.</p></body></html>
LOCATION:650 W. Washington St. Indianapolis\, IN 46204 Indianapolis IN 46204
UID:e.4434.1447037
SEQUENCE:3
DTSTAMP:20260422T050322Z
URL:https://members.acecindiana.org/event-calendar/Details/indiana-state-museum-tinkerfest-1713859?sourceTypeId=Hub
END:VEVENT
END:VCALENDAR
