BEGIN:VCALENDAR
VERSION:2.0
PRODID:-//ChamberMaster//Event Calendar 2.0//EN
METHOD:PUBLISH
X-PUBLISHED-TTL:P1H
REFRESH-INTERVAL:P1H
CALSCALE:GREGORIAN
BEGIN:VTIMEZONE
TZID:America/New_York
BEGIN:DAYLIGHT
RRULE:FREQ=YEARLY;BYMONTH=3;BYDAY=2SU
DTSTART:20070101T000000
TZOFFSETFROM:-0500
TZOFFSETTO:-0400
TZNAME:Eastern Daylight Time
END:DAYLIGHT
BEGIN:STANDARD
RRULE:FREQ=YEARLY;BYMONTH=11;BYDAY=1SU
DTSTART:20070101T000000
TZOFFSETFROM:-0400
TZOFFSETTO:-0500
TZNAME:Eastern Standard Time
END:STANDARD
END:VTIMEZONE
BEGIN:VEVENT
DTSTART;TZID=America/New_York:20260513T073000
DTEND;TZID=America/New_York:20260513T120000
X-MICROSOFT-CDO-ALLDAYEVENT:FALSE
SUMMARY:JA JobSpark 2026 - Fall Creek Valley Middle School
DESCRIPTION:Volunteer Opportunity! ACEC Indiana has been invited to participate in a "mini" JA JobSpark at Fall Creek Valley Middle School. Volunteers will have a chance to interact with over 600 middle school students. Students will learn more about various industries\, career opportunities and the skills\, education and training they will need to pursue those jobs. Volunteers are needed to facilitate a hands-on activity/demonstration. We hope you can help by volunteering or spreading the word about this opportunity! ACEC staff will set up the table with supplies for hands-on activities the day before the event. Volunteers are encouraged to wear a short/polo with their firm's logo. You can bring flyers with you to share company information as well as giveaways.
X-ALT-DESC;FMTTYPE=text/html:Volunteer Opportunity! ACEC Indiana has been invited to participate in a "mini" JA JobSpark at Fall Creek Valley Middle School. Volunteers will have a chance to interact with over 600 middle school students. Students will learn more about various industries\, career opportunities and the skills\, education and training they will need to pursue those jobs. Volunteers are needed to facilitate a hands-on activity/demonstration. We hope you can help by volunteering or spreading the word about this opportunity! ACEC staff will set up the table with supplies for hands-on activities the day before the event. Volunteers are encouraged to wear a short/polo with their firm's logo. You can bring flyers with you to share company information as well as giveaways.
LOCATION:9701 E 63rd St Indianapolis 46236
UID:e.4434.1440943
SEQUENCE:3
DTSTAMP:20260421T104754Z
URL:https://members.acecindiana.org/event-calendar/Details/ja-jobspark-2026-fall-creek-valley-middle-school-1706148?sourceTypeId=Hub
END:VEVENT
END:VCALENDAR
